BEGIN:VCALENDAR
VERSION:2.0
PRODID:-//Southwestern Society of Pediatric Dentistry - ECPv6.15.20//NONSGML v1.0//EN
CALSCALE:GREGORIAN
METHOD:PUBLISH
X-ORIGINAL-URL:https://swspd.org
X-WR-CALDESC:Events for Southwestern Society of Pediatric Dentistry
REFRESH-INTERVAL;VALUE=DURATION:PT1H
X-Robots-Tag:noindex
X-PUBLISHED-TTL:PT1H
BEGIN:VTIMEZONE
TZID:America/Indiana/Indianapolis
BEGIN:DAYLIGHT
TZOFFSETFROM:-0500
TZOFFSETTO:-0400
TZNAME:EDT
DTSTART:20240310T070000
END:DAYLIGHT
BEGIN:STANDARD
TZOFFSETFROM:-0400
TZOFFSETTO:-0500
TZNAME:EST
DTSTART:20241103T060000
END:STANDARD
BEGIN:DAYLIGHT
TZOFFSETFROM:-0500
TZOFFSETTO:-0400
TZNAME:EDT
DTSTART:20250309T070000
END:DAYLIGHT
BEGIN:STANDARD
TZOFFSETFROM:-0400
TZOFFSETTO:-0500
TZNAME:EST
DTSTART:20251102T060000
END:STANDARD
BEGIN:DAYLIGHT
TZOFFSETFROM:-0500
TZOFFSETTO:-0400
TZNAME:EDT
DTSTART:20260308T070000
END:DAYLIGHT
BEGIN:STANDARD
TZOFFSETFROM:-0400
TZOFFSETTO:-0500
TZNAME:EST
DTSTART:20261101T060000
END:STANDARD
END:VTIMEZONE
BEGIN:VEVENT
DTSTART;VALUE=DATE:20250202
DTEND;VALUE=DATE:20250208
DTSTAMP:20260425T072151
CREATED:20240315T030927Z
LAST-MODIFIED:20240315T030927Z
UID:60634-1738454400-1738972799@swspd.org
SUMMARY:Winter Ski Meeting 2025
DESCRIPTION:[vc_row][vc_column][vc_column_text]SWSPD Ski Meeting is February 2-7\, 2025 at Viewline Resort Snowmass in Colorado. \n\nQuestions? michelle@swspd.org or 866-244-0979 (phone) or 812-989-4825 (text)[/vc_column_text][/vc_column][/vc_row][vc_row][vc_column width=”1/4″]View Event Details [/vc_column][vc_column width=”1/4″][/vc_column][vc_column width=”1/4″][/vc_column][vc_column width=”1/4″][/vc_column][/vc_row]
URL:https://swspd.org/event/winter-ski-meeting-2025/
LOCATION:Viewline Resort Snowmass\, 100 Elbert Lane\, Snowmass Village\, CO\, 81615\, United States
CATEGORIES:Winter Ski Meeting
ATTACH;FMTTYPE=image/jpeg:https://swspd.org/wp-content/uploads/2018/10/ski-meeting.jpg
ORGANIZER;CN="Michelle Jacobi":MAILTO:michelle@swspd.org
END:VEVENT
END:VCALENDAR