BEGIN:VCALENDAR
VERSION:2.0
PRODID:-//Southwestern Society of Pediatric Dentistry - ECPv6.15.20//NONSGML v1.0//EN
CALSCALE:GREGORIAN
METHOD:PUBLISH
X-WR-CALNAME:Southwestern Society of Pediatric Dentistry
X-ORIGINAL-URL:https://swspd.org
X-WR-CALDESC:Events for Southwestern Society of Pediatric Dentistry
REFRESH-INTERVAL;VALUE=DURATION:PT1H
X-Robots-Tag:noindex
X-PUBLISHED-TTL:PT1H
BEGIN:VTIMEZONE
TZID:America/Indiana/Indianapolis
BEGIN:DAYLIGHT
TZOFFSETFROM:-0500
TZOFFSETTO:-0400
TZNAME:EDT
DTSTART:20220313T070000
END:DAYLIGHT
BEGIN:STANDARD
TZOFFSETFROM:-0400
TZOFFSETTO:-0500
TZNAME:EST
DTSTART:20221106T060000
END:STANDARD
BEGIN:DAYLIGHT
TZOFFSETFROM:-0500
TZOFFSETTO:-0400
TZNAME:EDT
DTSTART:20230312T070000
END:DAYLIGHT
BEGIN:STANDARD
TZOFFSETFROM:-0400
TZOFFSETTO:-0500
TZNAME:EST
DTSTART:20231105T060000
END:STANDARD
BEGIN:DAYLIGHT
TZOFFSETFROM:-0500
TZOFFSETTO:-0400
TZNAME:EDT
DTSTART:20240310T070000
END:DAYLIGHT
BEGIN:STANDARD
TZOFFSETFROM:-0400
TZOFFSETTO:-0500
TZNAME:EST
DTSTART:20241103T060000
END:STANDARD
END:VTIMEZONE
BEGIN:VEVENT
DTSTART;VALUE=DATE:20231012
DTEND;VALUE=DATE:20231016
DTSTAMP:20260423T184051
CREATED:20230103T155753Z
LAST-MODIFIED:20230131T170551Z
UID:45965-1697068800-1697414399@swspd.org
SUMMARY:2023 SSPD-SWSPD Joint Meeting
DESCRIPTION:[vc_row][vc_column]2023 SSPD-SWSPD Joint MeetingRegister Now [vc_column_text]\nOctober 12-15\, 2023\nHyatt Centric French Quarter\nNew Orleans\, LA \nEarn up to 8 hours of CE! \nSchedule of Events\nThursday\, October 12th \n\n5:30 PM – 7:00 PM – Hurricane Welcome Party\n\nFriday\, October 13th \n\n7:00 AM – Breakfast with Exhibitors\n8:00 AM – 12:30 PM – CE Lecture: “What’s New in Molar Incisor Hypomineralization Management” by Dr. Jeanette MacLean\n\nSaturday\, October 14th \n\n7:00 AM – Breakfast with Exhibitors\n8:00 AM – 12:30 PM – CE Lecture: “Myofunctional Therapy” by Brittny Sciarra Murphy\, RDH\n\nSunday\, October 15th \n\n8:00 AM – AAPD Member Forum Breakfast\n\n  \nHotel Information\nThe host hotel will be the Hyatt Centric New Orleans\, which is located 1 block inside the French Quarter on Iberville Street. Be sure to make your hotel reservation ASAP. \nInterested in sponsoring or exhibiting at the Joint Meeting? Click here for info![/vc_column_text]Register Now [/vc_column][/vc_row]
URL:https://swspd.org/event/2023-sspd-swspd-joint-meeting/
LOCATION:Hyatt Centric French Quarter\, 800 Iberville St\, New Orleans\, LA\, 70112\, United States
CATEGORIES:General,Joint Meeting
ATTACH;FMTTYPE=image/png:https://swspd.org/wp-content/uploads/2022/12/Mask-23-Joint-Meeting-Square.png
ORGANIZER;CN="Michelle Jacobi":MAILTO:michelle@swspd.org
END:VEVENT
END:VCALENDAR