BEGIN:VCALENDAR
VERSION:2.0
PRODID:-//Southwestern Society of Pediatric Dentistry - ECPv6.15.20//NONSGML v1.0//EN
CALSCALE:GREGORIAN
METHOD:PUBLISH
X-ORIGINAL-URL:https://swspd.org
X-WR-CALDESC:Events for Southwestern Society of Pediatric Dentistry
REFRESH-INTERVAL;VALUE=DURATION:PT1H
X-Robots-Tag:noindex
X-PUBLISHED-TTL:PT1H
BEGIN:VTIMEZONE
TZID:America/Indiana/Indianapolis
BEGIN:DAYLIGHT
TZOFFSETFROM:-0500
TZOFFSETTO:-0400
TZNAME:EDT
DTSTART:20180311T070000
END:DAYLIGHT
BEGIN:STANDARD
TZOFFSETFROM:-0400
TZOFFSETTO:-0500
TZNAME:EST
DTSTART:20181104T060000
END:STANDARD
BEGIN:DAYLIGHT
TZOFFSETFROM:-0500
TZOFFSETTO:-0400
TZNAME:EDT
DTSTART:20190310T070000
END:DAYLIGHT
BEGIN:STANDARD
TZOFFSETFROM:-0400
TZOFFSETTO:-0500
TZNAME:EST
DTSTART:20191103T060000
END:STANDARD
BEGIN:DAYLIGHT
TZOFFSETFROM:-0500
TZOFFSETTO:-0400
TZNAME:EDT
DTSTART:20200308T070000
END:DAYLIGHT
BEGIN:STANDARD
TZOFFSETFROM:-0400
TZOFFSETTO:-0500
TZNAME:EST
DTSTART:20201101T060000
END:STANDARD
BEGIN:DAYLIGHT
TZOFFSETFROM:-0500
TZOFFSETTO:-0400
TZNAME:EDT
DTSTART:20210314T070000
END:DAYLIGHT
BEGIN:STANDARD
TZOFFSETFROM:-0400
TZOFFSETTO:-0500
TZNAME:EST
DTSTART:20211107T060000
END:STANDARD
BEGIN:DAYLIGHT
TZOFFSETFROM:-0500
TZOFFSETTO:-0400
TZNAME:EDT
DTSTART:20220313T070000
END:DAYLIGHT
BEGIN:STANDARD
TZOFFSETFROM:-0400
TZOFFSETTO:-0500
TZNAME:EST
DTSTART:20221106T060000
END:STANDARD
BEGIN:DAYLIGHT
TZOFFSETFROM:-0500
TZOFFSETTO:-0400
TZNAME:EDT
DTSTART:20230312T070000
END:DAYLIGHT
BEGIN:STANDARD
TZOFFSETFROM:-0400
TZOFFSETTO:-0500
TZNAME:EST
DTSTART:20231105T060000
END:STANDARD
END:VTIMEZONE
BEGIN:VTIMEZONE
TZID:America/Chicago
BEGIN:DAYLIGHT
TZOFFSETFROM:-0600
TZOFFSETTO:-0500
TZNAME:CDT
DTSTART:20190310T080000
END:DAYLIGHT
BEGIN:STANDARD
TZOFFSETFROM:-0500
TZOFFSETTO:-0600
TZNAME:CST
DTSTART:20191103T070000
END:STANDARD
BEGIN:DAYLIGHT
TZOFFSETFROM:-0600
TZOFFSETTO:-0500
TZNAME:CDT
DTSTART:20200308T080000
END:DAYLIGHT
BEGIN:STANDARD
TZOFFSETFROM:-0500
TZOFFSETTO:-0600
TZNAME:CST
DTSTART:20201101T070000
END:STANDARD
BEGIN:DAYLIGHT
TZOFFSETFROM:-0600
TZOFFSETTO:-0500
TZNAME:CDT
DTSTART:20210314T080000
END:DAYLIGHT
BEGIN:STANDARD
TZOFFSETFROM:-0500
TZOFFSETTO:-0600
TZNAME:CST
DTSTART:20211107T070000
END:STANDARD
END:VTIMEZONE
BEGIN:VEVENT
DTSTART;VALUE=DATE:20220528
DTEND;VALUE=DATE:20220529
DTSTAMP:20260423T140754
CREATED:20220110T172236Z
LAST-MODIFIED:20220414T154934Z
UID:32145-1653696000-1653782399@swspd.org
SUMMARY:2022 SWSPD Caucus
DESCRIPTION:Saturday\, May 28\nSan Diego\, CA \nTime: 1:00 PM Pacific Time \nLocation: San Diego Convention Center
URL:https://swspd.org/event/2022-swspd-caucus/
LOCATION:San Diego Convention Center\, 111 W Harbor Dr\, San Diego\, CA\, 92101\, United States
CATEGORIES:General
ATTACH;FMTTYPE=image/jpeg:https://swspd.org/wp-content/uploads/2018/10/swspd-geographic-boundaries.jpg
ORGANIZER;CN="Michelle Jacobi":MAILTO:michelle@swspd.org
END:VEVENT
BEGIN:VEVENT
DTSTART;VALUE=DATE:20220130
DTEND;VALUE=DATE:20220205
DTSTAMP:20260423T140754
CREATED:20210222T152749Z
LAST-MODIFIED:20210928T151005Z
UID:5745-1643500800-1644019199@swspd.org
SUMMARY:Winter Ski Meeting 2022
DESCRIPTION:[vc_row][vc_column][vc_column_text]Nestled at the base of Vail Mountain\, along the banks of Gore Creek\, Grand Hyatt Hotel is Vail’s premier ski-in/ski-out resort. Located in the heart of Vail Valley within the Cascade Village neighborhood\, it is the ideal venue for SWSPD’s 2022 Ski Meeting! \n\nQuestions? michelle@swspd.org or 866-244-0979 (phone) or 812-989-4825 (text)[/vc_column_text][/vc_column][/vc_row][vc_row][vc_column width=”1/4″]View Event Details [/vc_column][vc_column width=”1/4″][/vc_column][vc_column width=”1/4″][/vc_column][vc_column width=”1/4″][/vc_column][/vc_row]
URL:https://swspd.org/event/winter-ski-meeting-2022/
LOCATION:Grand Hyatt Vail\, 1300 Westhaven Dr.\, Vail\, CO\, 81657\, United States
CATEGORIES:Winter Ski Meeting
ATTACH;FMTTYPE=image/jpeg:https://swspd.org/wp-content/uploads/2018/10/ski-meeting.jpg
ORGANIZER;CN="Michelle Jacobi":MAILTO:michelle@swspd.org
END:VEVENT
BEGIN:VEVENT
DTSTART;TZID=America/Indiana/Indianapolis:20211110T193000
DTEND;TZID=America/Indiana/Indianapolis:20211110T203000
DTSTAMP:20260423T140754
CREATED:20210809T141112Z
LAST-MODIFIED:20210809T141112Z
UID:20357-1636572600-1636576200@swspd.org
SUMMARY:2021 Virtual Business Meeting
DESCRIPTION:[vc_row][vc_column][vc_column_text]Join your SWSPD colleagues for a Society update and election of new officers.[/vc_column_text]Click here to sign up for the meeting! [/vc_column][/vc_row]
URL:https://swspd.org/event/2021-virtual-business-meeting/
LOCATION:WY
CATEGORIES:General
ATTACH;FMTTYPE=image/jpeg:https://swspd.org/wp-content/uploads/2018/10/swspd-geographic-boundaries.jpg
ORGANIZER;CN="Michelle Jacobi":MAILTO:michelle@swspd.org
END:VEVENT
BEGIN:VEVENT
DTSTART;TZID=America/Indiana/Indianapolis:20211104T183000
DTEND;TZID=America/Indiana/Indianapolis:20211104T203000
DTSTAMP:20260423T140754
CREATED:20210901T152129Z
LAST-MODIFIED:20210901T152129Z
UID:21911-1636050600-1636057800@swspd.org
SUMMARY:Dentistry and the Use of Controlled Substances
DESCRIPTION:[vc_row][vc_column][vc_column_text]\nPresented by Jacqueline M. Plemons\, DDS\, MS<\nDate: November 4\, 2021\nTime:6:30 PM – 8:30 PM\, CENTRAL\nLocation: Live Webinar via Zoom\nCE Credit: 2 hours\nRegistration Deadline: Thursday\, November 4\, 2021 @ 6:30PM\nRegistration Price: $25 for Members / $75 for Non Members[/vc_column_text]Register Now [/vc_column][/vc_row]
URL:https://swspd.org/event/dentistry-and-the-use-of-controlled-substances/
LOCATION:Virtual Zoom Meeting\, United States
CATEGORIES:General
ATTACH;FMTTYPE=image/jpeg:https://swspd.org/wp-content/uploads/2018/10/swspd-geographic-boundaries.jpg
END:VEVENT
BEGIN:VEVENT
DTSTART;TZID=America/Indiana/Indianapolis:20210729T183000
DTEND;TZID=America/Indiana/Indianapolis:20210729T203000
DTSTAMP:20260423T140754
CREATED:20210712T150733Z
LAST-MODIFIED:20210712T150733Z
UID:18598-1627583400-1627590600@swspd.org
SUMMARY:Virtual Narcotics Course
DESCRIPTION:[vc_row][vc_column][vc_column_text]\n“Dentistry and the Use of Controlled Substances”\nby Jacqueline M. Plemons DDS\, MS\nDate: July 29\, 2021\nTime: 6:30 PM – 8:30 PM\, CENTRAL\nLocation: Live Webinar via Zoom\nCE Credit: 2 hours\nRegistration Deadline: Tuesday July 27\, 2021 \nRegistration Fees\nSWSPD Members: $25\nNon-Members: $75[/vc_column_text]Register Now [/vc_column][/vc_row]
URL:https://swspd.org/event/virtual-narcotics-course/
LOCATION:Virtual Zoom Meeting\, United States
CATEGORIES:General
ATTACH;FMTTYPE=image/jpeg:https://swspd.org/wp-content/uploads/2018/10/swspd-geographic-boundaries.jpg
ORGANIZER;CN="Michelle Jacobi":MAILTO:michelle@swspd.org
END:VEVENT
BEGIN:VEVENT
DTSTART;VALUE=DATE:20210215
DTEND;VALUE=DATE:20210304
DTSTAMP:20260423T140754
CREATED:20201215T200832Z
LAST-MODIFIED:20201215T200832Z
UID:5719-1613347200-1614815999@swspd.org
SUMMARY:2021 Virtual Sedation Meeting
DESCRIPTION:[vc_row][vc_column][vc_column_text]\n“Pediatric Sedation in the Dental Office: A Practical Review”\nby Paul A. Bahn\, III\, DMD\nEarn 8 hours of sedation continuing education by completing 3- 2 hour sessions online at your convenience between February 15 and March 1. Then join Dr. Bahn for a live\, 2 hour summary and Q&A session on Wednesday\, March 3 at 7:00pm Central to complete the course. \nPlease note: Each 2 hour session will have a short competency quiz that must be completed and passed in order for CE to be awarded. Access links and additional details will be sent to registrants in January. \nRegistration Fees\nSWSPD Members: $250\nNon-Members: $450\nResidents: contact the SWSPD office[/vc_column_text]Register Now [/vc_column][/vc_row]
URL:https://swspd.org/event/2021-virtual-sedation-meeting/
LOCATION:WY
CATEGORIES:General
ATTACH;FMTTYPE=image/jpeg:https://swspd.org/wp-content/uploads/2018/10/swspd-geographic-boundaries.jpg
ORGANIZER;CN="Michelle Jacobi":MAILTO:michelle@swspd.org
END:VEVENT
BEGIN:VEVENT
DTSTART;TZID=America/Indiana/Indianapolis:20201215T190000
DTEND;TZID=America/Indiana/Indianapolis:20201215T203000
DTSTAMP:20260423T140754
CREATED:20201112T151016Z
LAST-MODIFIED:20201112T151016Z
UID:5692-1608058800-1608064200@swspd.org
SUMMARY:2020 Virtual Business Meeting
DESCRIPTION:[vc_row][vc_column][vc_column_text]Join your SWSPD colleagues for a Society update and election of new officers.[/vc_column_text]Click here to sign up for the meeting! [/vc_column][/vc_row]
URL:https://swspd.org/event/2020-virtual-business-meeting/
LOCATION:WY
CATEGORIES:General
ATTACH;FMTTYPE=image/jpeg:https://swspd.org/wp-content/uploads/2018/10/swspd-geographic-boundaries.jpg
ORGANIZER;CN="Michelle Jacobi":MAILTO:michelle@swspd.org
END:VEVENT
BEGIN:VEVENT
DTSTART;TZID=America/Indiana/Indianapolis:20200603T203652
DTEND;TZID=America/Indiana/Indianapolis:20200603T203652
DTSTAMP:20260423T140754
CREATED:20200520T172435Z
LAST-MODIFIED:20200603T203641Z
UID:5635-1591216612-1591216612@swspd.org
SUMMARY:Financial Considerations for Reopening Your Practice
DESCRIPTION:Rescheduled\n\n“Financial Considerations for Reopening Your Practice”\nWebinar by Chris Sands & Brent Saunier of Pro-Fi 20/20  \nWhen: TBD \n \nThe SouthWestern Society of Pediatric Dentistry is an ADA CERP recognized provider approved by the American Academy of Pediatric Dentistry. \nADA CERP is a service of the American Dental Association to assist dental professionals in identifying quality providers of continuing dental education. ADA CERP does not approve or endorse individual courses or instructors\, nor does it imply acceptance of credit hours by boards of dentistry. \nThe SouthWestern Society of Pediatric Dentistry designates this activity for 1 continuing education credit. \n\nAfter registering\, you will receive a confirmation email containing information about joining the meeting. \nCancellation/Refund Policy You may cancel your registration for this event up to the day of the event. As there is no registration fee\, no refunds will be given. Questions? michelle@swspd.org \n\n 
URL:https://swspd.org/event/financial-considerations-for-reopening-your-practice/
LOCATION:WY
CATEGORIES:General
ATTACH;FMTTYPE=image/jpeg:https://swspd.org/wp-content/uploads/2019/09/pro-fi-2020-logo-certified-public-accountants.jpg
ORGANIZER;CN="Michelle Jacobi":MAILTO:michelle@swspd.org
END:VEVENT
BEGIN:VEVENT
DTSTART;TZID=America/Chicago:20200520T180000
DTEND;TZID=America/Chicago:20200520T200000
DTSTAMP:20260423T140754
CREATED:20200511T163211Z
LAST-MODIFIED:20200511T164508Z
UID:5603-1589997600-1590004800@swspd.org
SUMMARY:Southwest District Virtual Caucus
DESCRIPTION:Join pediatric dentists in the Southwest District of the AAPD for updates on district states as well as an update from AAPD Trustee Dr. John Fales. \nRegister Now
URL:https://swspd.org/event/southwest-district-virtual-caucus/
LOCATION:Virtual Zoom Meeting\, United States
CATEGORIES:Southwest District Caucus
ATTACH;FMTTYPE=image/jpeg:https://swspd.org/wp-content/uploads/2018/10/swspd-geographic-boundaries.jpg
ORGANIZER;CN="Michelle Jacobi":MAILTO:michelle@swspd.org
END:VEVENT
BEGIN:VEVENT
DTSTART;VALUE=DATE:20200209
DTEND;VALUE=DATE:20200215
DTSTAMP:20260423T140754
CREATED:20190321T170357Z
LAST-MODIFIED:20200207T173746Z
UID:5370-1581206400-1581724799@swspd.org
SUMMARY:Winter Ski Meeting 2020
DESCRIPTION:Mark your calendar – More information coming soon!\nFind a schedule of event\, hotel details\, and speaker information at swspd.regfox.com/20skimeeting! \nQuestions? michelle@swspd.org or 866-244-0979 (phone) or 812-989-4825 (text) \n \n  \n 
URL:https://swspd.org/event/winter-ski-meeting-2020/
LOCATION:Grand Summit Resort\, 4000 Canyons Resort Dr\, Park City\, UT\, 84098\, United States
CATEGORIES:Winter Ski Meeting
ATTACH;FMTTYPE=image/jpeg:https://swspd.org/wp-content/uploads/2018/10/ski-meeting.jpg
ORGANIZER;CN="Michelle Jacobi":MAILTO:michelle@swspd.org
END:VEVENT
BEGIN:VEVENT
DTSTART;VALUE=DATE:20191031
DTEND;VALUE=DATE:20191103
DTSTAMP:20260423T140754
CREATED:20190328T152731Z
LAST-MODIFIED:20190916T134715Z
UID:5379-1572480000-1572739199@swspd.org
SUMMARY:Joint Meeting at Walt Disney World
DESCRIPTION:Join the Florida Academy of Pediatric Dentistry\, the Southeastern Society of Pediatric Dentistry\, and the SouthWestern Society of Pediatric Dentistry for this very special Joint Meeting at the Hilton Orlando Buena Vista Palace\, an official Walt Disney World Hotel just steps from the Disney Springs Resort area. Reserve your discounted room (starting at $189/night) online at https://book.passkey.com/e/49865287 or if you prefer to book your reservation over the phone\, please contact central reservations at: (855)-757-4984 and mention the SSPD/SWSPD/FAPD meeting! \n\n\n \n\nRegister Now! \n\nExhibitor/Sponsor Registration \n\nSchedule \n\nThursday\, October 31 \n\n4:00 PM – 6:00 PM – PPA Meeting\n\n  \nFriday\, November 1 \n\n7:00 AM – Registration & Breakfast w/ Exhibitors\n8:00 AM – Continuing Education Lecture “Applying Contemporary Behavior Science in Pediatric Dentistry Practice” Barbara Scheller\, DDS\, MSD\n10:00 AM – Break\n10:30 AM – Continuing Education Lecture “Ouch! You’re Hurting Me!” Barbara Scheller\, DDS\, MSD\n12:30 PM – SWSPD Business Meeting\n12:30 PM – SSPD Board Meeting\n7:30 PM – 9:00 PM – Welcome Reception\n\n  \nSaturday\, November 2 \n\n7:00 AM – Registration & Breakfast w/Exhibitors\n8:00 AM – Continuing Education Lecture “Childhood Cancer and Antibiotic Prophylaxis in Pediatric Dentistry – What’s New?” Marcio A da Fonseca\, DDS\, MS\n10:00 AM – Break\n10:30 AM – Continuing Education Lecture continued\n\n\nIn addition to having a magical experience at the resort\, specially priced Disney Tickets will be available through our custom web site: https://mydisneygroup.com/fapd2019 \nThese specially priced Disney Tickets purchased from our site will be valid for use from October 24th – November 10th (7 Days Pre and 7 Days Post our meeting). To receive discounted tickets\, you must purchase your Disney Tickets before October 30\, 2019! Just like Cinderella\, our website will lose its magic by midnight. \nYou will find pre-arrival savings on Full-Multi-Day Tickets (2 days or longer) that also include a complimentary bonus visit to an additional Disney Experience at any one of the following: Disney’s Typhoon Lagoon Water Park\, Disney’s Blizzard Beach Water Park\, Disney’s Winter Summerland Miniature Golf Course (before 4pm)\, Disney’s Fantasia Gardens Miniature Golf Course (before 4 pm)\, or a round of 9 hole golf at Disney’s Oak Trail Golf Course. \nPartial-day Tickets(After 1:00 PM and After 5:00 PM Twilight Tickets) are also available. These specially priced tickets are ideal for pre and post-conference visits! \nDisney FastPasses: Schedule your rides in advance\, and skip the lines!!!! \nIncluded in the purchase of your Disney Tickets\, is the ability to pre-select up to three FastPasses. Details on how to pre-select FastPasses can be found on our web site: https://mydisneygroup.com/fapd2019.  You’ll want to download the official My Disney Experience Mobile App to easily manage your plans too. When you stay at an Official Walt Disney World Resort\, you get the privilege of booking FastPasses 60 days in advance\, as opposed to 30 days in advance for the general population! You will definitely want to take advantage of this opportunity if you want to avoid 200 minute wait times for some of the main attractions: Avatar Flight of Passage\, Slink Dog Dash\, Seven Dwarfs Mine Train!!! Hurry\, they go quick!!! \n\nHalloween with a Disney Twist\nThe Joint Meeting coincides with Mickey’s Not So Scary Halloween Party!\nSee your favorite characters dressed up for this spook-tacularcelebration.\nGet your favorite costume ready to collect candies\, sweets and delightful treats—all while Magic Kingdom park thrills and chills you with special fireworks\, eerie entertainment and Disney Characters that go bump in the night. Best of all: since this event is “not-so-scary\,” children of every age can enjoy the fun!\nGet your tickets NOW as this party sells out every year!!
URL:https://swspd.org/event/joint-meeting-at-walt-disney-world/
LOCATION:Hilton Buena Vista Palace Resort\, 1900 East Buena Vista Drive\, Lake Buena Vista\, FL\, 32830\, United States
CATEGORIES:FAPD / SSPD / SWSPD Joint Meeting
ATTACH;FMTTYPE=image/jpeg:https://swspd.org/wp-content/uploads/2019/03/walking-mickey-disney-destinations.jpg
END:VEVENT
BEGIN:VEVENT
DTSTART;TZID=America/Indiana/Indianapolis:20190525T130000
DTEND;TZID=America/Indiana/Indianapolis:20190525T140000
DTSTAMP:20260423T140754
CREATED:20181203T203236Z
LAST-MODIFIED:20190513T132943Z
UID:5298-1558789200-1558792800@swspd.org
SUMMARY:Southwest District Caucus
DESCRIPTION:In conjunction with the AAPD Annual Session. \nThis meeting will take place in the Lake Huron Room. \nPPAs from each district state will be in attendance. \nThis is an excellent opportunity to share and exchange ideas about issues facing pediatric dentists across state borders. Learn what your PPA is doing as well as those in surrounding states. \nMore details to come!
URL:https://swspd.org/event/southwest-district-caucus/
LOCATION:Hilton Chicago\, 720 S Michigan Ave\, Chicago\, IL\, 60605\, United States
CATEGORIES:Southwest District Caucus
END:VEVENT
BEGIN:VEVENT
DTSTART;VALUE=DATE:20190203
DTEND;VALUE=DATE:20190209
DTSTAMP:20260423T140754
CREATED:20181012T154107Z
LAST-MODIFIED:20190128T195157Z
UID:5013-1549152000-1549670399@swspd.org
SUMMARY:Winter Ski Meeting
DESCRIPTION:Online registration for the 2019 Ski Meeting is now closed. Onsite registrations will be handled at the Westin Whistler. If you are registered for the meeting\, all pertinent information is posted to the meeting’s Basecamp. \nQuestions? michelle@swspd.org or 866-244-0979 (phone) or 812-989-4825 (text)
URL:https://swspd.org/event/winter-ski-meeting/
LOCATION:Westin Whistler Resort & Spa\, 4090 Whistler Way\, Whistler\, British Columbia\, V0N 1B4 CA\, Canada
CATEGORIES:Winter Ski Meeting
ATTACH;FMTTYPE=image/jpeg:https://swspd.org/wp-content/uploads/2018/10/ski-meeting.jpg
END:VEVENT
END:VCALENDAR