BEGIN:VCALENDAR
VERSION:2.0
PRODID:-//Southwestern Society of Pediatric Dentistry - ECPv6.15.20//NONSGML v1.0//EN
CALSCALE:GREGORIAN
METHOD:PUBLISH
X-WR-CALNAME:Southwestern Society of Pediatric Dentistry
X-ORIGINAL-URL:https://swspd.org
X-WR-CALDESC:Events for Southwestern Society of Pediatric Dentistry
REFRESH-INTERVAL;VALUE=DURATION:PT1H
X-Robots-Tag:noindex
X-PUBLISHED-TTL:PT1H
BEGIN:VTIMEZONE
TZID:America/Chicago
BEGIN:DAYLIGHT
TZOFFSETFROM:-0600
TZOFFSETTO:-0500
TZNAME:CDT
DTSTART:20230312T080000
END:DAYLIGHT
BEGIN:STANDARD
TZOFFSETFROM:-0500
TZOFFSETTO:-0600
TZNAME:CST
DTSTART:20231105T070000
END:STANDARD
BEGIN:DAYLIGHT
TZOFFSETFROM:-0600
TZOFFSETTO:-0500
TZNAME:CDT
DTSTART:20240310T080000
END:DAYLIGHT
BEGIN:STANDARD
TZOFFSETFROM:-0500
TZOFFSETTO:-0600
TZNAME:CST
DTSTART:20241103T070000
END:STANDARD
BEGIN:DAYLIGHT
TZOFFSETFROM:-0600
TZOFFSETTO:-0500
TZNAME:CDT
DTSTART:20250309T080000
END:DAYLIGHT
BEGIN:STANDARD
TZOFFSETFROM:-0500
TZOFFSETTO:-0600
TZNAME:CST
DTSTART:20251102T070000
END:STANDARD
END:VTIMEZONE
BEGIN:VEVENT
DTSTART;TZID=America/Chicago:20241120T190000
DTEND;TZID=America/Chicago:20241120T210000
DTSTAMP:20260425T103202
CREATED:20240924T192959Z
LAST-MODIFIED:20240926T163457Z
UID:70701-1732129200-1732136400@swspd.org
SUMMARY:Navigating Seasonal Stress in Dentistry and Life
DESCRIPTION:[vc_row][vc_column][vc_column_text css=””]Presented by Tarryn MacCarthy\, DMD \nDate: November 20\, 2024 \nTime: 7:00 PM – 9:00 PM\, CENTRAL \nLocation: Live Webinar via Zoom \nCE Credit: 2 hours \nRegistration Deadline: Wednesday\, November 20\, 2024 @ 7:00PM \nRegistration Price: \n\n$75 for SWSPD Members\n$125 for Non-Members\n$0 for Residents & Dental Students\n$50 for Non-Dentist Team Members & Staff\n\nJoin Dr. Tarryn MacCarthy for an insightful presentation designed specifically for busy dentists who want to enjoy the holidays without exhaustion and overwhelm. Explore practices to help you manage seasonal stress both in your professional and personal life. Discover essential strategies to handle outside expectations\, including demands from your team\, your patients\, and your family. We’ll discuss how to establish and maintain healthy boundaries to protect your energy and time around year-end business responsibilities and deadlines. Learn how to maintain motivation and calm during this busy season\, allowing you to enjoy and be present for special moments with loved ones. Embrace Happier Holidays without overshadowing stress.[/vc_column_text]Click here to sign up for the meeting! [/vc_column][/vc_row][vc_row][vc_column][vc_column_text css=””]\nTarryn MacCarthy\, DMD\nDr. Tarryn MacCarthy is The Transformational Mindset and Happiness Coach for Dental Professionals. Host of The Business of Happiness Podcast\, she is an Orthodontist\, Author\, Keynote Speaker\, Dental Life Coach\, and Rapid Transformational Therapist. After only 7 years of clinical orthodontics and solo practice ownership\, Tarryn experienced a breakdown and severe clinical burnout. She fire-sold her practice\, fled the state\, and literally and figuratively ran from everything in her life. The one thing she couldn’t run from was herself. \nWhat followed was a journey of reclamation of the self she had disconnected from decades earlier. 5 years later she would go on to open a scratch-start practice and grow it to be the largest Invisalign practice in her state. After 23 years in clinical dentistry\, she now coaches other leaders on reconnecting to themselves to step into their true power. \nIn her unparalleled program\, “Radical Happiness”\, she teaches how to harness the power within. Using her expertise in neurolinguistic programming\, nervous system regulation\, and subconscious reprogramming\, Tarryn guides clinicians and leaders with the tools to rediscover their happiness in dentistry and life and to realize even greater success and empowerment than they ever imagined.[/vc_column_text][/vc_column][/vc_row][vc_row][vc_column][vc_column_text css=””]Cancellation/Refund Policy \nCancellations must be received in writing no later than Tuesday\, November 19\, 2024. A full refund\, less a $10 processing fee\, will be issued for those received by that deadline. All refunds will be processed within 30 days after the meeting. \nQuestions? Contact Michelle at SWSPD Office \n\nEmail: michelle.e.jacobi@gmail.com\nText: (812) 989-4825 \nTalk: (866) 244-0979\n\nThe SouthWestern Society of Pediatric Dentistry is an ADA CERP-recognized provider approved by the American Academy of Pediatric Dentistry. ADA CERP is a service of the American Dental Association to assist dental professionals in identifying quality providers of continuing dental education. ADA CERP does not approve or endorse individual courses or instructors\, nor does it imply acceptance of credit hours by boards of dentistry. The SouthWestern Society of Pediatric Dentistry designates this activity for 2 continuing education credits.[/vc_column_text][/vc_column][/vc_row]
URL:https://swspd.org/event/navigating-seasonal-stress-in-dentistry-and-life/
LOCATION:Live Webinar via Zoom
CATEGORIES:General
ORGANIZER;CN="Michelle Jacobi":MAILTO:michelle@swspd.org
END:VEVENT
END:VCALENDAR